BEGIN:VCALENDAR
VERSION:2.0
PRODID:-//The Gerda Lissner Foundation - ECPv6.15.20//NONSGML v1.0//EN
CALSCALE:GREGORIAN
METHOD:PUBLISH
X-WR-CALNAME:The Gerda Lissner Foundation
X-ORIGINAL-URL:https://gerdalissner.org
X-WR-CALDESC:Events for The Gerda Lissner Foundation
REFRESH-INTERVAL;VALUE=DURATION:PT1H
X-Robots-Tag:noindex
X-PUBLISHED-TTL:PT1H
BEGIN:VTIMEZONE
TZID:America/New_York
BEGIN:DAYLIGHT
TZOFFSETFROM:-0500
TZOFFSETTO:-0400
TZNAME:EDT
DTSTART:20240310T070000
END:DAYLIGHT
BEGIN:STANDARD
TZOFFSETFROM:-0400
TZOFFSETTO:-0500
TZNAME:EST
DTSTART:20241103T060000
END:STANDARD
BEGIN:DAYLIGHT
TZOFFSETFROM:-0500
TZOFFSETTO:-0400
TZNAME:EDT
DTSTART:20250309T070000
END:DAYLIGHT
BEGIN:STANDARD
TZOFFSETFROM:-0400
TZOFFSETTO:-0500
TZNAME:EST
DTSTART:20251102T060000
END:STANDARD
BEGIN:DAYLIGHT
TZOFFSETFROM:-0500
TZOFFSETTO:-0400
TZNAME:EDT
DTSTART:20260308T070000
END:DAYLIGHT
BEGIN:STANDARD
TZOFFSETFROM:-0400
TZOFFSETTO:-0500
TZNAME:EST
DTSTART:20261101T060000
END:STANDARD
END:VTIMEZONE
BEGIN:VEVENT
DTSTART;TZID=America/New_York:20251105T210000
DTEND;TZID=America/New_York:20251105T220000
DTSTAMP:20260424T113631
CREATED:20251104T213025Z
LAST-MODIFIED:20251107T134217Z
UID:5925-1762376400-1762380000@gerdalissner.org
SUMMARY:Young Artists Showcase: From Canon to Creation: A Celebration of Mannes Opera
DESCRIPTION:WQXR’s 105.9FM Young Artists Showcase host Alexa Smith will take listeners on a musical journey\, featuring the talented artists of Mannes School of Music. This program celebrates Mannes’ rich tradition and ushers in the thrilling next chapter of opera. Encore presentation on Saturday\, Nov. 8.\nListen here
URL:https://gerdalissner.org/event/young-artists-showcase-from-canon-to-creation-a-celebration-of-mannes-opera/
LOCATION:WQXR
ATTACH;FMTTYPE=image/jpeg:https://gerdalissner.org/wp-content/uploads/2025/11/mannes.jpg
ORGANIZER;CN="The Gerda Lissner Foundation":MAILTO:mail@gerdalissner.org
END:VEVENT
END:VCALENDAR