BEGIN:VCALENDAR
VERSION:2.0
PRODID:-//The Gerda Lissner Foundation - ECPv6.15.20//NONSGML v1.0//EN
CALSCALE:GREGORIAN
METHOD:PUBLISH
X-WR-CALNAME:The Gerda Lissner Foundation
X-ORIGINAL-URL:https://gerdalissner.org
X-WR-CALDESC:Events for The Gerda Lissner Foundation
REFRESH-INTERVAL;VALUE=DURATION:PT1H
X-Robots-Tag:noindex
X-PUBLISHED-TTL:PT1H
BEGIN:VTIMEZONE
TZID:America/New_York
BEGIN:DAYLIGHT
TZOFFSETFROM:-0500
TZOFFSETTO:-0400
TZNAME:EDT
DTSTART:20240310T070000
END:DAYLIGHT
BEGIN:STANDARD
TZOFFSETFROM:-0400
TZOFFSETTO:-0500
TZNAME:EST
DTSTART:20241103T060000
END:STANDARD
BEGIN:DAYLIGHT
TZOFFSETFROM:-0500
TZOFFSETTO:-0400
TZNAME:EDT
DTSTART:20250309T070000
END:DAYLIGHT
BEGIN:STANDARD
TZOFFSETFROM:-0400
TZOFFSETTO:-0500
TZNAME:EST
DTSTART:20251102T060000
END:STANDARD
BEGIN:DAYLIGHT
TZOFFSETFROM:-0500
TZOFFSETTO:-0400
TZNAME:EDT
DTSTART:20260308T070000
END:DAYLIGHT
BEGIN:STANDARD
TZOFFSETFROM:-0400
TZOFFSETTO:-0500
TZNAME:EST
DTSTART:20261101T060000
END:STANDARD
END:VTIMEZONE
BEGIN:VEVENT
DTSTART;TZID=America/New_York:20251114T190000
DTEND;TZID=America/New_York:20251114T220000
DTSTAMP:20260424T113727
CREATED:20250918T193115Z
LAST-MODIFIED:20251106T212207Z
UID:5834-1763146800-1763157600@gerdalissner.org
SUMMARY:The Gerda Lissner Foundation Presents: "L’invitation au voyage" – An Evening with Bard College Conservatory of Music
DESCRIPTION:  \nView the livestream here.
URL:https://gerdalissner.org/event/the-gerda-lissner-foundation-presents-an-evening-with-bard-college-conservatory-of-music/
LOCATION:The Greene Space\, 44 Charlton St.\, New York\, NY\, United States
ORGANIZER;CN="The Gerda Lissner Foundation":MAILTO:mail@gerdalissner.org
END:VEVENT
END:VCALENDAR