BEGIN:VCALENDAR
VERSION:2.0
PRODID:-//The Gerda Lissner Foundation - ECPv6.15.20//NONSGML v1.0//EN
CALSCALE:GREGORIAN
METHOD:PUBLISH
X-WR-CALNAME:The Gerda Lissner Foundation
X-ORIGINAL-URL:https://gerdalissner.org
X-WR-CALDESC:Events for The Gerda Lissner Foundation
REFRESH-INTERVAL;VALUE=DURATION:PT1H
X-Robots-Tag:noindex
X-PUBLISHED-TTL:PT1H
BEGIN:VTIMEZONE
TZID:America/New_York
BEGIN:DAYLIGHT
TZOFFSETFROM:-0500
TZOFFSETTO:-0400
TZNAME:EDT
DTSTART:20230312T070000
END:DAYLIGHT
BEGIN:STANDARD
TZOFFSETFROM:-0400
TZOFFSETTO:-0500
TZNAME:EST
DTSTART:20231105T060000
END:STANDARD
BEGIN:DAYLIGHT
TZOFFSETFROM:-0500
TZOFFSETTO:-0400
TZNAME:EDT
DTSTART:20240310T070000
END:DAYLIGHT
BEGIN:STANDARD
TZOFFSETFROM:-0400
TZOFFSETTO:-0500
TZNAME:EST
DTSTART:20241103T060000
END:STANDARD
BEGIN:DAYLIGHT
TZOFFSETFROM:-0500
TZOFFSETTO:-0400
TZNAME:EDT
DTSTART:20250309T070000
END:DAYLIGHT
BEGIN:STANDARD
TZOFFSETFROM:-0400
TZOFFSETTO:-0500
TZNAME:EST
DTSTART:20251102T060000
END:STANDARD
END:VTIMEZONE
BEGIN:VEVENT
DTSTART;TZID=America/New_York:20241115T190000
DTEND;TZID=America/New_York:20241115T210000
DTSTAMP:20260421T010000
CREATED:20241107T221237Z
LAST-MODIFIED:20241107T222824Z
UID:5009-1731697200-1731704400@gerdalissner.org
SUMMARY:An evening with J'Nai Bridges & Curtis Opera Theatre
DESCRIPTION:
URL:https://gerdalissner.org/event/an-evening-with-jnai-bridges-curtis-opera-theatre/
LOCATION:The Greene Space\, 44 Charlton St.\, New York\, NY\, United States
ATTACH;FMTTYPE=image/png:https://gerdalissner.org/wp-content/uploads/2024/11/Screenshot-2024-11-07-at-5.14.07 PM.png
ORGANIZER;CN="The Gerda Lissner Foundation":MAILTO:mail@gerdalissner.org
END:VEVENT
END:VCALENDAR