BEGIN:VCALENDAR
VERSION:2.0
PRODID:-//The Gerda Lissner Foundation - ECPv6.15.20//NONSGML v1.0//EN
CALSCALE:GREGORIAN
METHOD:PUBLISH
X-WR-CALNAME:The Gerda Lissner Foundation
X-ORIGINAL-URL:https://gerdalissner.org
X-WR-CALDESC:Events for The Gerda Lissner Foundation
REFRESH-INTERVAL;VALUE=DURATION:PT1H
X-Robots-Tag:noindex
X-PUBLISHED-TTL:PT1H
BEGIN:VTIMEZONE
TZID:America/New_York
BEGIN:DAYLIGHT
TZOFFSETFROM:-0500
TZOFFSETTO:-0400
TZNAME:EDT
DTSTART:20240310T070000
END:DAYLIGHT
BEGIN:STANDARD
TZOFFSETFROM:-0400
TZOFFSETTO:-0500
TZNAME:EST
DTSTART:20241103T060000
END:STANDARD
BEGIN:DAYLIGHT
TZOFFSETFROM:-0500
TZOFFSETTO:-0400
TZNAME:EDT
DTSTART:20250309T070000
END:DAYLIGHT
BEGIN:STANDARD
TZOFFSETFROM:-0400
TZOFFSETTO:-0500
TZNAME:EST
DTSTART:20251102T060000
END:STANDARD
BEGIN:DAYLIGHT
TZOFFSETFROM:-0500
TZOFFSETTO:-0400
TZNAME:EDT
DTSTART:20260308T070000
END:DAYLIGHT
BEGIN:STANDARD
TZOFFSETFROM:-0400
TZOFFSETTO:-0500
TZNAME:EST
DTSTART:20261101T060000
END:STANDARD
END:VTIMEZONE
BEGIN:VEVENT
DTSTART;TZID=America/New_York:20251015T193000
DTEND;TZID=America/New_York:20251015T220000
DTSTAMP:20260424T113114
CREATED:20250918T192841Z
LAST-MODIFIED:20251013T170438Z
UID:5830-1760556600-1760565600@gerdalissner.org
SUMMARY:The Gerda Lissner Foundation Presents: An Evening with The New School Mannes
DESCRIPTION:  \n\nExperience the Magic of Mannes Opera – from Canon to Creation\nA livestream event at The Greene Space\, WQXR\nJoin us for a captivating evening as The Gerda Lissner Foundation proudly presents a celebration of Mannes Opera\, journeying from beloved classics to bold new works. The program features an impressive lineup of Mannes alumni and former Gerda Lissner Foundation winners\, including Nadine Sierra\, Eve Gigliotti\, and Hannah Cho\, as well as distinguished alumni artists Jennifer Zetlan and Bryan Wagorn. Current students of Mannes will also share the stage\, showcasing the next generation of operatic talent. \nJoin the Livestream\n* This event is partially underwritten by the Lissner Charitable Fund\, Karl Michaelis.
URL:https://gerdalissner.org/event/the-gerda-lissner-foundation-presents-an-evening-with-the-new-school-mannes-from-canon-to-creation-a-celebration-of-mannes-opera/
LOCATION:The Greene Space\, 44 Charlton St.\, New York\, NY\, United States
END:VEVENT
END:VCALENDAR